BEGIN:VCALENDAR
VERSION:2.0
PRODID:-//LDSV - Linden-Dahlhauser Schwimmverein 1921 e.V. - ECPv6.15.18//NONSGML v1.0//EN
CALSCALE:GREGORIAN
METHOD:PUBLISH
X-WR-CALNAME:LDSV - Linden-Dahlhauser Schwimmverein 1921 e.V.
X-ORIGINAL-URL:https://ldsv.de
X-WR-CALDESC:Veranstaltungen für LDSV - Linden-Dahlhauser Schwimmverein 1921 e.V.
REFRESH-INTERVAL;VALUE=DURATION:PT1H
X-Robots-Tag:noindex
X-PUBLISHED-TTL:PT1H
BEGIN:VTIMEZONE
TZID:Europe/Berlin
BEGIN:DAYLIGHT
TZOFFSETFROM:+0100
TZOFFSETTO:+0200
TZNAME:CEST
DTSTART:20230326T010000
END:DAYLIGHT
BEGIN:STANDARD
TZOFFSETFROM:+0200
TZOFFSETTO:+0100
TZNAME:CET
DTSTART:20231029T010000
END:STANDARD
BEGIN:DAYLIGHT
TZOFFSETFROM:+0100
TZOFFSETTO:+0200
TZNAME:CEST
DTSTART:20240331T010000
END:DAYLIGHT
BEGIN:STANDARD
TZOFFSETFROM:+0200
TZOFFSETTO:+0100
TZNAME:CET
DTSTART:20241027T010000
END:STANDARD
BEGIN:DAYLIGHT
TZOFFSETFROM:+0100
TZOFFSETTO:+0200
TZNAME:CEST
DTSTART:20250330T010000
END:DAYLIGHT
BEGIN:STANDARD
TZOFFSETFROM:+0200
TZOFFSETTO:+0100
TZNAME:CET
DTSTART:20251026T010000
END:STANDARD
BEGIN:DAYLIGHT
TZOFFSETFROM:+0100
TZOFFSETTO:+0200
TZNAME:CEST
DTSTART:20260329T010000
END:DAYLIGHT
BEGIN:STANDARD
TZOFFSETFROM:+0200
TZOFFSETTO:+0100
TZNAME:CET
DTSTART:20261025T010000
END:STANDARD
BEGIN:DAYLIGHT
TZOFFSETFROM:+0100
TZOFFSETTO:+0200
TZNAME:CEST
DTSTART:20270328T010000
END:DAYLIGHT
BEGIN:STANDARD
TZOFFSETFROM:+0200
TZOFFSETTO:+0100
TZNAME:CET
DTSTART:20271031T010000
END:STANDARD
END:VTIMEZONE
BEGIN:VEVENT
DTSTART;TZID=Europe/Berlin:20260124T160000
DTEND;TZID=Europe/Berlin:20260124T200000
DTSTAMP:20260419T135048
CREATED:20251016T143013Z
LAST-MODIFIED:20251016T143013Z
UID:906-1769270400-1769284800@ldsv.de
SUMMARY:Wintergrillen - 2025
DESCRIPTION:Am 24.01.2026 findet um 16 Uhr das alljährliche Wintergrillen am Vereinsheim statt.
URL:https://ldsv.de/termin/wintergrillen-2025/
LOCATION:Vereinsheim\, Ruhrmühle 1a\, Bochum\, 44879\, Germany
CATEGORIES:Veranstaltung
END:VEVENT
BEGIN:VEVENT
DTSTART;TZID=Europe/Berlin:20251214T140000
DTEND;TZID=Europe/Berlin:20251214T200000
DTSTAMP:20260419T135048
CREATED:20251016T142648Z
LAST-MODIFIED:20251016T142648Z
UID:904-1765720800-1765742400@ldsv.de
SUMMARY:Vereinsmeisterschaften - 2025
DESCRIPTION:Es ist wieder so weit – die Vereinsmeisterschaften finden statt. \nMehr Infos findest du im Beitrag.
URL:https://ldsv.de/termin/vereinsmeisterschaften-2025/
LOCATION:HFB Hofstede\, Stettiner Str. 1-3\,\, Bochum\, 44809
CATEGORIES:Wettkampf
ATTACH;FMTTYPE=image/jpeg:https://ldsv.de/wp-content/uploads/2024/02/Wettkampf.jpg
END:VEVENT
BEGIN:VEVENT
DTSTART;TZID=Europe/Berlin:20251128T180000
DTEND;TZID=Europe/Berlin:20251128T210000
DTSTAMP:20260419T135048
CREATED:20251016T141944Z
LAST-MODIFIED:20251016T141944Z
UID:897-1764352800-1764363600@ldsv.de
SUMMARY:Jahreshauptversammlung - 2025
DESCRIPTION:Die Jahreshauptversammlung/Mitgliederversammlung des Linden-Dahlhauser Schwimmverein 1921 e.V. findet am 28.11.2025 um 18 Uhr im Vereinsheim statt. \nEinladung und Tagesordnung
URL:https://ldsv.de/termin/jahreshauptversammlung-2025/
LOCATION:Vereinsheim\, Ruhrmühle 1a\, Bochum\, 44879\, Germany
ORGANIZER;CN="LDSV":MAILTO:sl@ldsv.de
END:VEVENT
BEGIN:VEVENT
DTSTART;TZID=Europe/Berlin:20250906T080000
DTEND;TZID=Europe/Berlin:20250906T170000
DTSTAMP:20260419T135048
CREATED:20250624T122939Z
LAST-MODIFIED:20250625T075441Z
UID:843-1757145600-1757178000@ldsv.de
SUMMARY:PoolParty - 2025
DESCRIPTION:Save the Date: Wettkampf mit Poolparty-Feeling! \nAm 06.09.2025 laden wir euch zur großen Poolparty des Linden-Dahlhauser Schwimmvereins ins HFB Bochum-Hofstede ein! Euch erwarten spannende Wettkämpfe um den begehrten Wanderpokal\, actionreiche Prämienläufe und erstmals eine Masterswertung für alle ambitionierten Schwimmer*innen. \nNebenbei sorgen coole Beats\, leckere Cocktails und ein vielseitiges Catering für die perfekte Poolparty-Atmosphäre. Seid dabei – wir feiern Sport & Sommer! \nZur Ausschreibung: Klick hier \n\n\n  \nZeitplan: \nEinlass: 8:00 Uhr \nEinschwimmen: 8:15 Uhr \nKampfrichtersitzung: 8:15 Uhr \nBeginn: 9:00 Uhr
URL:https://ldsv.de/termin/poolparty-2025/
LOCATION:HFB Hofstede\, Stettiner Str. 1-3\,\, Bochum\, 44809
END:VEVENT
BEGIN:VEVENT
DTSTART;TZID=Europe/Berlin:20241213T200000
DTEND;TZID=Europe/Berlin:20241213T210000
DTSTAMP:20260419T135048
CREATED:20241212T094100Z
LAST-MODIFIED:20241212T094100Z
UID:824-1734120000-1734123600@ldsv.de
SUMMARY:Jahreshauptversammlung - 2024
DESCRIPTION:Jahreshauptversammlung des LDSV \nEinladung und Tagesordnung – PDF \n 
URL:https://ldsv.de/termin/jahreshauptversammlung-2024/
LOCATION:Vereinsheim\, Ruhrmühle 1a\, Bochum\, 44879\, Germany
CATEGORIES:Veranstaltung
END:VEVENT
BEGIN:VEVENT
DTSTART;TZID=Europe/Berlin:20241201T150000
DTEND;TZID=Europe/Berlin:20241201T180000
DTSTAMP:20260419T135048
CREATED:20241022T103342Z
LAST-MODIFIED:20241022T103342Z
UID:811-1733065200-1733076000@ldsv.de
SUMMARY:Vereinsmeisterschaften - 2024
DESCRIPTION:Vereinsmeisterschaften – 2024 \nWeitere Infos findest du in dem Beitrag.
URL:https://ldsv.de/termin/vereinsmeisterschaften-2024/
LOCATION:HFB Hofstede\, Stettiner Str. 1-3\,\, Bochum\, 44809
END:VEVENT
BEGIN:VEVENT
DTSTART;TZID=Europe/Berlin:20240907T080000
DTEND;TZID=Europe/Berlin:20240907T160000
DTSTAMP:20260419T135048
CREATED:20240311T081437Z
LAST-MODIFIED:20240819T114612Z
UID:684-1725696000-1725724800@ldsv.de
SUMMARY:PoolParty
DESCRIPTION:Operation PoolParty \nWichtige Änderung: Das Tunier findet im HFB Bochum-Langendreer statt – nicht im HFB Bochum-Hofstede. \nDer LDSV richtet am 07.09.2024 im HFB Bochum-Langendreer einen ausgeschriebenen Wettkampf aus. \nEinlass: 8:00 Uhr \n\nWanderpokal für die beste Gastmannschaft\nsommerliches Rahmenprogramm\nPrämienläufe mit attraktiven Preisen\nCatering mit warmen und kalten\n\nWeitere Infos zur Auschreibung: Klick hier
URL:https://ldsv.de/termin/poolparty/
LOCATION:HFB Bochum-Langendreer\, Eschweg 50\, Bochum\, 44892\, Deutschland
CATEGORIES:Wettkampf
ATTACH;FMTTYPE=image/jpeg:https://ldsv.de/wp-content/uploads/2024/03/Wettkampf_PoolParty.jpg
ORGANIZER;CN="LDSV":MAILTO:sl@ldsv.de
END:VEVENT
END:VCALENDAR